BEGIN:VCALENDAR
VERSION:2.0
PRODID:gruene-neunkirchen.de
METHOD:PUBLISH
BEGIN:VTIMEZONE
TZID:Europe/Berlin
X-LIC-LOCATION:Europe/Berlin
BEGIN:DAYLIGHT
TZOFFSETFROM:+0100
TZOFFSETTO:+0200
TZNAME:CEST
DTSTART:19700329T020000
RRULE:FREQ=YEARLY;INTERVAL=1;BYDAY=-1SU;BYMONTH=3
END:DAYLIGHT
BEGIN:STANDARD
TZOFFSETFROM:+0200
TZOFFSETTO:+0100
TZNAME:CET
DTSTART:19701025T030000
RRULE:FREQ=YEARLY;INTERVAL=1;BYDAY=-1SU;BYMONTH=10
END:STANDARD
END:VTIMEZONE
BEGIN:VEVENT
UID:d944c40b269029ed89de4cf5e8d6c586@gruene-neunkirchen.de
URL;VALUE=URI:https://gruene-neunkirchen.de/termine/wanderung-abenteuer-i
 llauen-mit-uli-heintz/
LOCATION:Dorfwaldhalle, Leiwieserstraße, Illingen
SUMMARY:Wanderung „Abenteuer Illauen“ mit Uli Heintz
DESCRIPTION;ALTREP="data:text/html,%0A%3Cp%3EDer%20Ortsverband%20Illingen
 %20l%C3%A4dt%20alle%20Interessierten%20zu%20einer%20Wanderung%20in%20den%
 20Illauen%20ein.%20Diplom-Geograph%20Uli%20Heintz%20%28LIK%20Nord%29%20ze
 igt%20uns%2C%20was%20wir%20dort%20entdecken%20und%20wor%C3%BCber%20wir%20
 staunen%20k%C3%B6nnen.%3C%2Fp%3E%0A%0A%0A%0A%3Cp%3EDer%20Treffpunkt%20ist
 %3Cbr%3Eam%20%3Cstrong%3ESamstag%2C%20%3C%2Fstrong%3Eden%3Cstrong%3E%2002
 .05.2026%3C%2Fstrong%3E%2C%3Cbr%3Eum%20%3Cstrong%3E10%3A00%20Uhr%3C%2Fstr
 ong%3E%3Cbr%3Ean%20der%20%3Cstrong%3EDorfwaldhalle%20%3C%2Fstrong%3Ein%3C
 strong%3E%20Hirzweiler%3C%2Fstrong%3E%20%28%3Cem%3ELeiwieserstra%C3%9Fe%2
 C%2066557%20Illingen%3C%2Fem%3E%29.%3C%2Fp%3E%0A%0A%0A%0A%3Cp%3EVon%20dor
 t%20aus%20geht%20es%20f%C3%BCr%20etwa%20zwei%20Stunden%20in%20Richtung%20
 Illauen.%20Bitte%20an%20festes%20Schuhwerk%20denken.%20F%C3%BCr%20die%20K
 inder%20gibt%20es%20eine%20besondere%20%C3%9Cberraschung.%20Nach%20der%20
 Wanderung%20findet%20ein%20Picknick%20an%20der%20Dorfwaldhalle%20statt.%3
 C%2Fp%3E%0A%0A%0A%0A%3Cp%3EAnmeldung%20bis%20zum%2026.04.2026%20unter%3A%
 26nbsp%3B%3Ca%20href%3D%22mailto%3Ainfo%40gruene-illingen-saar.de%22%3Ein
 fo%40gruene-illingen-saar.de%3C%2Fa%3E%3Cbr%3EBitte%20die%20Anzahl%20der%
 20Kinder%20und%20Erwachsenen%20angeben%20%E2%80%93%20danke%21%3C%2Fp%3E%0
 A%0A%0A%0A%3Cp%3E%3C%2Fp%3E%0A%0A%0A%0A%3Cdiv%20class%3D%22wp-block-ootb-
 openstreetmap%22%3E%3Cdiv%20class%3D%22ootb-openstreetmap--map%22%20data-
 provider%3D%22openstreetmap%22%20data-maptype%3D%22marker%22%20data-showm
 arkers%3D%22true%22%20data-shapestyle%3D%22%257B%2522fillColor%2522%253A%
 2522%2523008EFF%2522%252C%2522color%2522%253A%2522%2523008EFF%2522%252C%2
 522weight%2522%253A3%257D%22%20data-shapetext%3D%22%22%20data-markers%3D%
 22%255B%257B%2522lat%2522%253A%252249.40141947012954%2522%252C%2522lng%25
 22%253A%25227.077383995056153%2522%252C%2522text%2522%253A%2522%253Cp%253
 ELeiwieserstra%25C3%259Fe%252C%2520Hirzweiler%252C%2520Illingen%252C%2520
 Landkreis%2520Neunkirchen%252C%2520Saarland%252C%252066557%252C%2520Deuts
 chland%253C%252Fp%253E%2522%252C%2522textRaw%2522%253A%2522Leiwieserstra%
 25C3%259Fe%252C%2520Hirzweiler%252C%2520Illingen%252C%2520Landkreis%2520N
 eunkirchen%252C%2520Saarland%252C%252066557%252C%2520Deutschland%2522%252
 C%2522id%2522%253A1776670545141%257D%255D%22%20data-bounds%3D%22%5B49.401
 41947012954%2C7.077383995056153%5D%22%20data-zoom%3D%2215%22%20data-minzo
 om%3D%222%22%20data-maxzoom%3D%2218%22%20data-dragging%3D%22true%22%20dat
 a-touchzoom%3D%22true%22%20data-doubleclickzoom%3D%22true%22%20data-scrol
 lwheelzoom%3D%22true%22%20data-fullscreen%3D%22false%22%20data-enableclus
 tering%3D%22false%22%20data-marker%3D%22%257B%2522iconUrl%2522%253A%2522h
 ttps%253A%252F%252Fgruene-neunkirchen.de%252Fwp-content%252Fplugins%252Fo
 otb-openstreetmap%252Fassets%252Fvendor%252Fleaflet%252Fimages%252Fmarker
 -icon.png%2522%252C%2522iconAnchor%2522%253A%255B12%252C41%255D%252C%2522
 popupAnchor%2522%253A%255B0%252C-41%255D%257D%22%20style%3D%22height%3A40
 0px%22%3E%3C%2Fdiv%3E%3C%2Fdiv%3E%0A%0A%0A%0A%3Cp%3E%3C%2Fp%3E%0A%0A%0A%0
 A%3Cfigure%20class%3D%22wp-block-image%20size-large%22%3E%3Ca%20href%3D%2
 2https%3A%2F%2Fgruene-neunkirchen.de%2Fwp-content%2Fuploads%2Fsites%2F20%
 2F2026%2F04%2F020526.jpg%22%3E%3Cimg%20src%3D%22https%3A%2F%2Fgruene-neun
 kirchen.de%2Fwp-content%2Fuploads%2Fsites%2F20%2F2026%2F04%2F020526-800x8
 00.jpg%22%20alt%3D%22%22%20class%3D%22wp-image-3886%22%20%2F%3E%3C%2Fa%3E
 %3C%2Ffigure%3E%0A":Der Ortsverband Illingen lädt alle Interessierten zu
  einer Wanderung in den Illauen ein. Diplom-Geograph Uli Heintz (LIK Nord
 ) zeigt uns\, was wir dort entdecken und worüber wir staunen können.\n\
 nDer Treffpunkt istam Samstag\, den 02.05.2026\,um 10:00 Uhran der Dorfwa
 ldhalle in Hirzweiler (Leiwieserstraße\, 66557 Illingen).\n\nVon dort au
 s geht es für etwa zwei Stunden in Richtung Illauen. Bitte an festes Sch
 uhwerk denken. Für die Kinder gibt es eine besondere Überraschung. Nach
  der Wanderung findet ein Picknick an der Dorfwaldhalle statt.\n\nAnmeldu
 ng bis zum 26.04.2026 unter: info@gruene-illingen-saar.deBitte die Anzah
 l der Kinder und Erwachsenen angeben – danke!
CLASS:PUBLIC
DTSTART;TZID=Europe/Berlin:20260502T100000
DTEND;TZID=Europe/Berlin:20260502T120000
DTSTAMP:20260420T140630
END:VEVENT
END:VCALENDAR